BEGIN:VCALENDAR
VERSION:2.0
PRODID:-//Sabrina Zimmermann - Pferdetraining und Reitunterricht Gera - ECPv6.15.13//NONSGML v1.0//EN
CALSCALE:GREGORIAN
METHOD:PUBLISH
X-WR-CALNAME:Sabrina Zimmermann - Pferdetraining und Reitunterricht Gera
X-ORIGINAL-URL:https://www.pferdetraining-und-reitunterricht-gera.de
X-WR-CALDESC:Veranstaltungen für Sabrina Zimmermann - Pferdetraining und Reitunterricht Gera
REFRESH-INTERVAL;VALUE=DURATION:PT1H
X-Robots-Tag:noindex
X-PUBLISHED-TTL:PT1H
BEGIN:VTIMEZONE
TZID:Europe/Berlin
BEGIN:DAYLIGHT
TZOFFSETFROM:+0100
TZOFFSETTO:+0200
TZNAME:CEST
DTSTART:20250330T010000
END:DAYLIGHT
BEGIN:STANDARD
TZOFFSETFROM:+0200
TZOFFSETTO:+0100
TZNAME:CET
DTSTART:20251026T010000
END:STANDARD
BEGIN:DAYLIGHT
TZOFFSETFROM:+0100
TZOFFSETTO:+0200
TZNAME:CEST
DTSTART:20260329T010000
END:DAYLIGHT
BEGIN:STANDARD
TZOFFSETFROM:+0200
TZOFFSETTO:+0100
TZNAME:CET
DTSTART:20261025T010000
END:STANDARD
BEGIN:DAYLIGHT
TZOFFSETFROM:+0100
TZOFFSETTO:+0200
TZNAME:CEST
DTSTART:20270328T010000
END:DAYLIGHT
BEGIN:STANDARD
TZOFFSETFROM:+0200
TZOFFSETTO:+0100
TZNAME:CET
DTSTART:20271031T010000
END:STANDARD
END:VTIMEZONE
BEGIN:VEVENT
DTSTART;TZID=Europe/Berlin:20260821T080000
DTEND;TZID=Europe/Berlin:20260830T170000
DTSTAMP:20260423T144221
CREATED:20251223T175425Z
LAST-MODIFIED:20260221T170042Z
UID:1625-1787299200-1788109200@www.pferdetraining-und-reitunterricht-gera.de
SUMMARY:Abzeichenlehrgang nach Fn an zwei Wochenenden in Gutenborn
DESCRIPTION:Ein Abzeichenlehrgang ist deine Chance\, dein Können zu festigen und offiziell anerkennen zu lassen! In diesem Lehrgang lernst du alles\, was du für deinen nächsten Schritt als Reiter brauchst: Von grundlegenden Techniken im Sattel über wertvolles Wissen zur Pferdepflege bis hin zur richtigen Einschätzung von Sicherheit und Verantwortung. Am Ende erhältst du nicht nur wertvolle Tipps und Praxis\, sondern kannst mit dem Abzeichen einen anerkannten Nachweis für deine Fähigkeiten mitnehmen – ideal für weiterführende Kurse oder als Einstieg ins Turniergeschehen. Mach mit und wachse über dich hinaus! \nDatum:\nWochenend – Module: Der Abzeichenlehrgang findet an zwei Wochenenden (21.08.26 – 23.08.26 und 28.08.26 – 30.08.2026) statt. \nAbzeichen und Kosten:\n• Longierabzeichen: 295 €\n• Pferdeführerschein Umgang: 325 €\n• Reitabzeichen 10-6: 275 € \n(inkl. Richter – und Prüfungsgebühren)\nDer Lehrgang ist Voraussetzung gemäß APO für die Zulassung der Abzeichenprüfung!   \nDie Abzeichenlehrgänge: \nPferdeführerschein Umgang:\n• keine Altersbegrenzung\n• keine Mitgliedschaft im Reitverein notwendig\n• Voraussetzung für höhere Abzeichen\n• auch für Eltern und Mitwirkende interessant \nLogierabzeichen:\n• keine Altersbegrenzung\n• Mitgliedschaft im Reitverein notwendig\n• Grundvoraussetzung PF Umgang (alt Basispass) oder RA 6 & 7 \nReitabzeichen 10-6:\n• keine Altersbegrenzung\n• keine Mitgliedschaft im Reitverein notwendig\n• RA 6 & 7 sind gleichwertig zum PF Umgang und Voraussetzung für höhere Abzeichen \nAnmelden bis 20.07.2026 (ab 7 Teilnehmern\, max. 15 Teilnehmer)
URL:https://www.pferdetraining-und-reitunterricht-gera.de/lehrgang/abzeichenlehrgang-nach-fn-in-gutenborn/
LOCATION:Lonziger\, Hauptstr. 6\, Gutenborn\, 06712\, Germany
ATTACH;FMTTYPE=image/png:https://www.pferdetraining-und-reitunterricht-gera.de/wp-content/uploads/2025/12/Lila-Transparenz-Yoga-Kurs-Instagram-Post-scaled.png
END:VEVENT
END:VCALENDAR